BEGIN:VCALENDAR
VERSION:2.0
PRODID:icalendar-ruby
CALSCALE:GREGORIAN
METHOD:PUBLISH
BEGIN:VEVENT
DTSTAMP:20260426T035354Z
UID:202-1769572@dunnscreek.com
DTSTART:20260802T210000Z
DTEND:20260802T230000Z
CLASS:PUBLIC
CREATED:20260425T203159
DESCRIPTION:Sunday evenings are a time to get together in smaller groups fo
 r the purpose of discipleship. We have several options for groups:\n6 PM C
 o-ed Group led by Robin Roundtree in Room 2 - currently learning how to sh
 are the gospel with Muslims\n6 PM Co-ed Group led by David McRee in the Ch
 oir Room - currently going through an Apologetics study\n5 PM Men's Discip
 leship Group led by Darrell Maynard in Room 1 \n4:30 PM Women's Prayer Gr
 oup led by Nancy Roebuck and Carol Rich\n(Women's Bible Study led by Dotti
 e Gross and Linda Weaver meets on Monday Mornings)
LAST-MODIFIED:20260425T203159
LOCATION:
SUMMARY:Sunday Evening Discipleship
URL;VALUE=URI:https://www.dunnscreek.com/events/sunday-evening-discipleship
 /2026-08-02
ATTACH;FILENAME=SUNDAY-NIGHT.png;FMTTYPE=image/png:https://dq5pwpg1q8ru0.cl
 oudfront.net/2026/03/09/18/45/03/e6036b22-3a1f-4c51-8051-39b2c0b7d60f/SUND
 AY-NIGHT.png
END:VEVENT
END:VCALENDAR
