BEGIN:VCALENDAR
VERSION:2.0
PRODID:icalendar-ruby
CALSCALE:GREGORIAN
METHOD:PUBLISH
BEGIN:VEVENT
DTSTAMP:20260420T161433Z
UID:206-1711313@dunnscreek.com
DTSTART:20260423T150000Z
DTEND:20260423T180000Z
CLASS:PUBLIC
CREATED:20260415T124413
DESCRIPTION:We are headed to Ruby Tuesday for their Smashburger Special. Bu
 s leaves at 11! Bring a friend :) 
LAST-MODIFIED:20260415T124413
LOCATION:
SUMMARY:Senior Adult Monthly Lunch
URL;VALUE=URI:https://www.dunnscreek.com/events/senior-adult-monthly-lunch/
 2026-04-23
ATTACH;FILENAME=SENIOR-ADULT-LUNCH-1.png;FMTTYPE=image/png:https://dq5pwpg1
 q8ru0.cloudfront.net/2026/04/15/16/44/13/d5dc1695-d36f-420b-8439-e11962a78
 2ba/SENIOR-ADULT-LUNCH-1.png
END:VEVENT
END:VCALENDAR
