BEGIN:VCALENDAR
VERSION:2.0
PRODID:icalendar-ruby
CALSCALE:GREGORIAN
METHOD:PUBLISH
BEGIN:VEVENT
DTSTAMP:20260424T024952Z
UID:11-1758555@dunnscreek.com
DTSTART:20260917T140000Z
DTEND:20260917T153000Z
CLASS:PUBLIC
CREATED:20260423T214210
DESCRIPTION:Our Senior Adult Choir\, led by David Gross\, meets on Thursday
 s at 10:30am in the Choir Room. They sing once a month in our Worship Serv
 ice as well as local outreach performances. All are welcome. Come make a j
 oyful noise with a joyful heart!
LAST-MODIFIED:20260423T214210
LOCATION:Choir Room
SUMMARY:Joyful Hearts Choir
URL;VALUE=URI:https://www.dunnscreek.com/events/joyful-hearts-choir/2026-09
 -17
ATTACH;FILENAME=6D1E37F1-56C1-4397-9CE7-103F7897B4D0.JPG;FMTTYPE=image/jpeg
 :https://dq5pwpg1q8ru0.cloudfront.net/2021/04/12/08/14/06/60e2606e-4927-4d
 db-88d4-39c267e42c23/6D1E37F1-56C1-4397-9CE7-103F7897B4D0.JPG
END:VEVENT
END:VCALENDAR
